BEGIN:VCALENDAR
VERSION:2.0
PRODID:icalendar-ruby
CALSCALE:GREGORIAN
BEGIN:VEVENT
DTSTAMP:20260425T140915Z
UID:bf7d11c2-f82a-49c4-9ad9-104c4dcf3788
DTSTART;VALUE=DATE:20191219
DESCRIPTION:Property ID# 467588\, Time: 11:00AM
SUMMARY:Auction for 
END:VEVENT
END:VCALENDAR
