BEGIN:VCALENDAR
VERSION:2.0
PRODID:icalendar-ruby
CALSCALE:GREGORIAN
BEGIN:VEVENT
DTSTAMP:20260425T141103Z
UID:651b4587-f6d9-4bb8-b4d9-e638afb1af8e
DTSTART;VALUE=DATE:20201112
DESCRIPTION:Property ID# 493060\, Locatoin: 96 Ulster Street\, Hamilton\, T
 ime: 11:00AM
SUMMARY:Auction for 
END:VEVENT
END:VCALENDAR
