BEGIN:VCALENDAR
VERSION:2.0
PRODID:icalendar-ruby
CALSCALE:GREGORIAN
BEGIN:VEVENT
DTSTAMP:20260425T140915Z
UID:ad412d02-7e46-40b4-8ae6-9b8dbd74fbf9
DTSTART;VALUE=DATE:20230511
DESCRIPTION:Property ID# 554246\, Locatoin: 96 Ulster Street\, Hamilton\, T
 ime: 11:00AM
SUMMARY:Auction for 
END:VEVENT
END:VCALENDAR
